BEGIN:VCALENDAR
VERSION:2.0
PRODID:-//TV Arminia - ECPv6.15.20//NONSGML v1.0//EN
CALSCALE:GREGORIAN
METHOD:PUBLISH
X-ORIGINAL-URL:https://tvarminia.de
X-WR-CALDESC:Veranstaltungen für TV Arminia
REFRESH-INTERVAL;VALUE=DURATION:PT1H
X-Robots-Tag:noindex
X-PUBLISHED-TTL:PT1H
BEGIN:VTIMEZONE
TZID:Europe/Berlin
BEGIN:DAYLIGHT
TZOFFSETFROM:+0100
TZOFFSETTO:+0200
TZNAME:CEST
DTSTART:20240331T010000
END:DAYLIGHT
BEGIN:STANDARD
TZOFFSETFROM:+0200
TZOFFSETTO:+0100
TZNAME:CET
DTSTART:20241027T010000
END:STANDARD
BEGIN:DAYLIGHT
TZOFFSETFROM:+0100
TZOFFSETTO:+0200
TZNAME:CEST
DTSTART:20250330T010000
END:DAYLIGHT
BEGIN:STANDARD
TZOFFSETFROM:+0200
TZOFFSETTO:+0100
TZNAME:CET
DTSTART:20251026T010000
END:STANDARD
BEGIN:DAYLIGHT
TZOFFSETFROM:+0100
TZOFFSETTO:+0200
TZNAME:CEST
DTSTART:20260329T010000
END:DAYLIGHT
BEGIN:STANDARD
TZOFFSETFROM:+0200
TZOFFSETTO:+0100
TZNAME:CET
DTSTART:20261025T010000
END:STANDARD
END:VTIMEZONE
BEGIN:VEVENT
DTSTART;VALUE=DATE:20250501
DTEND;VALUE=DATE:20250502
DTSTAMP:20260423T114636
CREATED:20250123T145050Z
LAST-MODIFIED:20250123T145229Z
UID:4225-1746057600-1746143999@tvarminia.de
SUMMARY:Maiwanderung
DESCRIPTION:
URL:https://tvarminia.de/event/maiwanderung-2/
LOCATION:Arminenhaus\, Eichendorffstraße 14\, Esslingen\, 73734\, Deutschland
CATEGORIES:AHV
END:VEVENT
BEGIN:VEVENT
DTSTART;TZID=Europe/Berlin:20250508T180000
DTEND;TZID=Europe/Berlin:20250508T220000
DTSTAMP:20260423T114636
CREATED:20250415T145258Z
LAST-MODIFIED:20250415T145413Z
UID:4247-1746727200-1746741600@tvarminia.de
SUMMARY:Burschungsvortrag
DESCRIPTION:2 Vorträge erwarten uns an diesem Tag
URL:https://tvarminia.de/event/burschungsvortrag-interne-veranstaltung/
LOCATION:Arminenhaus\, Eichendorffstraße 14\, Esslingen\, 73734\, Deutschland
CATEGORIES:AHV,Aktivitas
END:VEVENT
BEGIN:VEVENT
DTSTART;TZID=Europe/Berlin:20250518T120000
DTEND;TZID=Europe/Berlin:20250518T170000
DTSTAMP:20260423T114636
CREATED:20250123T144934Z
LAST-MODIFIED:20250123T144934Z
UID:4223-1747569600-1747587600@tvarminia.de
SUMMARY:Benefizessen
DESCRIPTION:Der Fuxenspuz ist eine jährliche Tradition. Dabei organisieren die aktuellen Füxe einen Ausflug über ein verlängertes Wochenende. Ziel dabei ist es\, die Gemeinschaft zu stärken und starke Freundschaften zu schließen. Um diesen Aufzug finanzieren zu können wird zudem ein Benefizessen organisiert\, bei dem insbesondere AhAh eingeladen werden. Es wird ein drei-Gänge-Menü seitens der Fuxia vorbereitet und der Große Saal unseres Arminenhaus erstrahlt in einem besonderen Flair. Ziel des Benefizessens ist es\, Spenden für den bevorstehenden Fuxenspuz zu sammeln.
URL:https://tvarminia.de/event/benefizessen-4/
LOCATION:Arminenhaus\, Eichendorffstraße 14\, Esslingen\, 73734\, Deutschland
CATEGORIES:AHV,Aktivitas
END:VEVENT
BEGIN:VEVENT
DTSTART;VALUE=DATE:20250529
DTEND;VALUE=DATE:20250602
DTSTAMP:20260423T114636
CREATED:20250123T145208Z
LAST-MODIFIED:20250123T145208Z
UID:4227-1748476800-1748822399@tvarminia.de
SUMMARY:Fuxenspuz
DESCRIPTION:Der Fuxenspuz ist eine jährliche Tradition. Dabei organisieren die aktuellen Füxe/ Aktiven einen Ausflug über ein verlängertes Wochenende. Ziel dabei ist es\, die Gemeinschaft zu stärken und starke Freundschaften zu schließen.
URL:https://tvarminia.de/event/fuxenspuz-3/
CATEGORIES:Aktivitas
END:VEVENT
END:VCALENDAR